BEGIN:VCALENDAR
VERSION:2.0
PRODID:-//poetryidiots.com - ECPv6.15.20//NONSGML v1.0//EN
CALSCALE:GREGORIAN
METHOD:PUBLISH
X-WR-CALNAME:poetryidiots.com
X-ORIGINAL-URL:https://poetryidiots.com
X-WR-CALDESC:Events for poetryidiots.com
REFRESH-INTERVAL;VALUE=DURATION:PT1H
X-Robots-Tag:noindex
X-PUBLISHED-TTL:PT1H
BEGIN:VTIMEZONE
TZID:America/Los_Angeles
BEGIN:DAYLIGHT
TZOFFSETFROM:-0800
TZOFFSETTO:-0700
TZNAME:PDT
DTSTART:20200308T100000
END:DAYLIGHT
BEGIN:STANDARD
TZOFFSETFROM:-0700
TZOFFSETTO:-0800
TZNAME:PST
DTSTART:20201101T090000
END:STANDARD
BEGIN:DAYLIGHT
TZOFFSETFROM:-0800
TZOFFSETTO:-0700
TZNAME:PDT
DTSTART:20210314T100000
END:DAYLIGHT
BEGIN:STANDARD
TZOFFSETFROM:-0700
TZOFFSETTO:-0800
TZNAME:PST
DTSTART:20211107T090000
END:STANDARD
BEGIN:DAYLIGHT
TZOFFSETFROM:-0800
TZOFFSETTO:-0700
TZNAME:PDT
DTSTART:20220313T100000
END:DAYLIGHT
BEGIN:STANDARD
TZOFFSETFROM:-0700
TZOFFSETTO:-0800
TZNAME:PST
DTSTART:20221106T090000
END:STANDARD
END:VTIMEZONE
BEGIN:VEVENT
DTSTART;TZID=America/Los_Angeles:20210630T200000
DTEND;TZID=America/Los_Angeles:20210630T220000
DTSTAMP:20260425T090540
CREATED:20210630T055735Z
LAST-MODIFIED:20210630T055735Z
UID:1071-1625083200-1625090400@poetryidiots.com
SUMMARY:Josiah Luis Alderete\, online!
DESCRIPTION:Josiah Luis Alderete is a full blooded Pocho spanglish speaking poet from El Area Bahia who learned to write poetry in the kitchen of his Mama’s Mexican restaurant. He was a founding member of San Francisco’s outspoken word troupe The Molotov Mouths. He is also a radio insurgente whose stories have appeared on KALW’s “Crosscurrents” and whose show “The Spanglish Power Hour” aired on KPFA. He curates and hosts the Latinx reading series SPEAKING AXOLOTL in Oakland which happens every third Thursday of the month at Nomadic Press Studios. Josiah Luis Alderete’s book of poems is expected out this year from Black Freighter Press. he currently resides in the Iron Triangle in Richmond where he’s still waiting for Quetzalquatl to arrive. \n  \n___________________________________________________________________ \nWe will be meeting via Zoom. You will need to install Zoom onto either your computer or phone.\nSIGN UP to read via Google Sheets here: google sign up sheet\nJOIN US online at the Zoom event via this link: https://wested.zoom.us/j/98379021977\nThe meeting ID\, should you join on a PHONE app is\n98379021977\nZoom DOWNLOADS are available here:\nhttps://zoom.us/download#client_4meeting\nKeep up to date on the COVID-19 outbreak and learn more about how to protect yourself. https://www.cdph.ca.gov/…/Pages/Immunization/ncov2019.aspx\n___________________________________________________________________
URL:https://poetryidiots.com/event/josiah-luis-alderete-online/
LOCATION:Online!
ATTACH;FMTTYPE=image/jpeg:https://poetryidiots.com/wp-content/uploads/2021/06/15969381_web1_190317-sfe-sflives-001.jpg
END:VEVENT
END:VCALENDAR