BEGIN:VCALENDAR
VERSION:2.0
PRODID:-//poetryidiots.com - ECPv6.15.20//NONSGML v1.0//EN
CALSCALE:GREGORIAN
METHOD:PUBLISH
X-WR-CALNAME:poetryidiots.com
X-ORIGINAL-URL:https://poetryidiots.com
X-WR-CALDESC:Events for poetryidiots.com
REFRESH-INTERVAL;VALUE=DURATION:PT1H
X-Robots-Tag:noindex
X-PUBLISHED-TTL:PT1H
BEGIN:VTIMEZONE
TZID:America/Los_Angeles
BEGIN:DAYLIGHT
TZOFFSETFROM:-0800
TZOFFSETTO:-0700
TZNAME:PDT
DTSTART:20200308T100000
END:DAYLIGHT
BEGIN:STANDARD
TZOFFSETFROM:-0700
TZOFFSETTO:-0800
TZNAME:PST
DTSTART:20201101T090000
END:STANDARD
BEGIN:DAYLIGHT
TZOFFSETFROM:-0800
TZOFFSETTO:-0700
TZNAME:PDT
DTSTART:20210314T100000
END:DAYLIGHT
BEGIN:STANDARD
TZOFFSETFROM:-0700
TZOFFSETTO:-0800
TZNAME:PST
DTSTART:20211107T090000
END:STANDARD
BEGIN:DAYLIGHT
TZOFFSETFROM:-0800
TZOFFSETTO:-0700
TZNAME:PDT
DTSTART:20220313T100000
END:DAYLIGHT
BEGIN:STANDARD
TZOFFSETFROM:-0700
TZOFFSETTO:-0800
TZNAME:PST
DTSTART:20221106T090000
END:STANDARD
END:VTIMEZONE
BEGIN:VEVENT
DTSTART;TZID=America/Los_Angeles:20210331T200000
DTEND;TZID=America/Los_Angeles:20210331T220000
DTSTAMP:20260425T090158
CREATED:20210227T203105Z
LAST-MODIFIED:20210227T203105Z
UID:994-1617220800-1617228000@poetryidiots.com
SUMMARY:June Melby
DESCRIPTION:June Melby is a writer\, comedian\, poet\, and performance artist. Her memoir My Family and Other Hazards (Holt 2014) was on the New York Times Bestseller list and won the Midwest Connections Award. It tells the story of the retro 1950s miniature golf course where June grew up\, and her family lived and worked for thirty years. \nWith a band or as a solo artist\, she has performed all over the world\, including the Hammer Museum\, Los Angeles; Mission Creek\, Iowa City; Bumbershoot\, Seattle; as well as London\, Munich\, Hamburg\, and Amsterdam. Her work has appeared in McSweeney’s Internet Tendency\, Utne Reader\, LAWeekly\, and journals including Versal and Forklift Ohio among others. Winner of the children’s poetry slam at the Edinburgh Poetry Festival. \nAs a comedian she appeared on Roe Rogan’s Full Frontal Comedy (Showtime).  She is the green alien named “Bang” in Warner Brothers blockbuster “Space Jam\,” starring Michael Jordan. \nJune got her MFA in creative writing from the University of Iowa.  Currently she lives in a log cabin in the woods with her husband and 60 acres of trees. \n  \n___________________________________________________________________ \nWe will be meeting via Zoom. You will need to install Zoom onto either your computer or phone.\nSIGN UP to read via Google Sheets here: google sign up sheet\nJOIN US online at the Zoom event via this link: https://wested.zoom.us/j/97599247304\nThe meeting ID\, should you join on a PHONE app is\n97599247304\nZoom DOWNLOADS are available here:\nhttps://zoom.us/download#client_4meeting\nKeep up to date on the COVID-19 outbreak and learn more about how to protect yourself. https://www.cdph.ca.gov/…/Pages/Immunization/ncov2019.aspx\n___________________________________________________________________
URL:https://poetryidiots.com/event/june-melby-2/
LOCATION:Online!
ATTACH;FMTTYPE=image/jpeg:https://poetryidiots.com/wp-content/uploads/2021/02/Author_pic-small.jpg
END:VEVENT
END:VCALENDAR